BEGIN:VCALENDAR
VERSION:2.0
PRODID:-//TYPO3/NONSGML News system (news)//EN
BEGIN:VEVENT
UID:news-80440@physik.uni-graz.at
DTSTAMP:20211126T140011Z
DTSTART:20211129T160000Z
DTEND:20211129T173000Z
SUMMARY:PhD-Seminar &quot;Experimental- und Festkörperphysik&quot;

DESCRIPTION:Florian Schwarz: &quot;Self-metalation of Porphyrins on Thin Oxide Films&quot;
END:VEVENT
END:VCALENDAR
