BEGIN:VCALENDAR
VERSION:2.0
PRODID:-//TYPO3/NONSGML News system (news)//EN
BEGIN:VEVENT
UID:news-80569@physik.uni-graz.at
DTSTAMP:20211202T074752Z
DTSTART:20211206T160000Z
DTEND:20211206T170000Z
SUMMARY:PhD-Seminar &quot;Experimental- und Festkörperphysik&quot;

DESCRIPTION:Henrik Siboni &quot;Small Solutions to Large Problems: AFM Studies of Pharmaceutical Nanoparticles&quot;
END:VEVENT
END:VCALENDAR
