BEGIN:VCALENDAR
VERSION:2.0
PRODID:-//TYPO3/NONSGML News system (news)//EN
BEGIN:VEVENT
UID:news-80823@physik.uni-graz.at
DTSTAMP:20211213T085559Z
DTSTART:20211213T160000Z
DTEND:20211213T170000Z
SUMMARY:PhD-Seminar &quot;Experimental- und Festkörperphysik&quot;

DESCRIPTION:Peter Banzer: &quot;Playing Hide-and-Seek in the Nanoworld – Structured Light-Matter Interactions for Ultra-Precise Particle Localization&quot;
END:VEVENT
END:VCALENDAR
