BEGIN:VCALENDAR
VERSION:2.0
PRODID:-//TYPO3/NONSGML News system (news)//EN
BEGIN:VEVENT
UID:news-82470@physik.uni-graz.at
DTSTAMP:20220110T115955Z
DTSTART:20220110T160000Z
DTEND:20220110T170000Z
SUMMARY:PhD-Seminar &quot;Experimental- und Festkörperphysik&quot;

DESCRIPTION:Marko Simic: &quot;Optofluidic Force Induction Scheme for the Characterization of Nanoparticle Ensembles&quot;
END:VEVENT
END:VCALENDAR
