BEGIN:VCALENDAR
VERSION:2.0
PRODID:-//TYPO3/NONSGML News system (news)//EN
BEGIN:VEVENT
UID:news-82644@physik.uni-graz.at
DTSTAMP:20220114T085337Z
DTSTART:20220117T160000Z
DTEND:20220117T170000Z
SUMMARY:PhD-Seminar &quot;Experimental- und Festkörperphysik&quot;

DESCRIPTION:Andreas Windischbacher: &quot;From Magnetism to Catalysis: A Porphyrin-Based Multifunctional Interface&quot;
END:VEVENT
END:VCALENDAR
