BEGIN:VCALENDAR
VERSION:2.0
PRODID:-//TYPO3/NONSGML News system (news)//EN
BEGIN:VEVENT
UID:news-82924@physik.uni-graz.at
DTSTAMP:20220124T093545Z
DTSTART:20220124T160000Z
DTEND:20220124T170000Z
SUMMARY:PhD-Seminar &quot;Experimental- und Festkörperphysik&quot;

DESCRIPTION:Peter Puschnig: &quot;Photoemission Orbital Tomography for Chemical Analysis of Surface Species&quot;
END:VEVENT
END:VCALENDAR
