BEGIN:VCALENDAR
VERSION:2.0
PRODID:-//TYPO3/NONSGML News system (news)//EN
BEGIN:VEVENT
UID:news-80189@physik.uni-graz.at
DTSTAMP:20211119T144810Z
DTSTART:20211122T160000Z
DTEND:20211122T170000Z
SUMMARY:PhD-Seminar &quot;Experimental- und Festkörperphysik&quot;

DESCRIPTION:Christian S. Kern: &quot;Extending Photoemission Orbital Tomography to the Time-Domain&quot;
END:VEVENT
END:VCALENDAR
