BEGIN:VCALENDAR
VERSION:2.0
PRODID:-//TYPO3/NONSGML News system (news)//EN
BEGIN:VEVENT
UID:news-115422@physik.uni-graz.at
DTSTAMP:20241223T102345Z
DTSTART:20240611T141500Z
DTEND:20240611T141500Z
SUMMARY:Physics Colloquium

DESCRIPTION:Bernd-Jochen Schaefer: &quot;Strong-interacting Quark Matter in Neutron Stars&quot;
END:VEVENT
END:VCALENDAR
