BEGIN:VCALENDAR
VERSION:2.0
PRODID:-//TYPO3/NONSGML News system (news)//EN
BEGIN:VEVENT
UID:news-113743@physik.uni-graz.at
DTSTAMP:20241223T102345Z
DTSTART:20240422T131500Z
DTEND:20240422T131500Z
SUMMARY:Physics Colloquium

DESCRIPTION:Malin Sjödahl: &quot;Remodeling Feynman diagrams with chirality flow&quot;
END:VEVENT
END:VCALENDAR
