BEGIN:VCALENDAR
VERSION:2.0
PRODID:-//TYPO3/NONSGML News system (news)//EN
BEGIN:VEVENT
UID:news-110327@physik.uni-graz.at
DTSTAMP:20241223T102345Z
DTSTART:20240116T151500Z
DTEND:20240116T151500Z
SUMMARY:Physics Colloquium

DESCRIPTION:Sebastian Klembt: &quot;Topological physics with light: Topological edge and corner modes in polariton lattices&quot;
END:VEVENT
END:VCALENDAR
