BEGIN:VCALENDAR
VERSION:2.0
PRODID:-//TYPO3/NONSGML News system (news)//EN
BEGIN:VEVENT
UID:news-109408@physik.uni-graz.at
DTSTAMP:20241223T102345Z
DTSTART:20231205T151500Z
DTEND:20231205T151500Z
SUMMARY:Physics Colloquium

DESCRIPTION:Steven Bass: &quot;The Cosmological Constant Puzzle&quot;
END:VEVENT
END:VCALENDAR
