BEGIN:VCALENDAR
VERSION:2.0
PRODID:-//TYPO3/NONSGML News system (news)//EN
BEGIN:VEVENT
UID:news-108257@physik.uni-graz.at
DTSTAMP:20241223T102345Z
DTSTART:20231107T151500Z
DTEND:20231107T151500Z
SUMMARY:Physics Colloquium

DESCRIPTION:Guido Fratesi: &quot;Towards single-crystal silicene by interface engineering&quot;
END:VEVENT
END:VCALENDAR
