BEGIN:VCALENDAR
VERSION:2.0
PRODID:-//TYPO3/NONSGML News system (news)//EN
BEGIN:VEVENT
UID:news-107211@physik.uni-graz.at
DTSTAMP:20241223T102345Z
DTSTART:20231010T141500Z
DTEND:20231010T141500Z
SUMMARY:Physics Colloquium

DESCRIPTION:Prof. Dr. Niklas Nilius: &quot;From defect luminescence to cationic mixing: Oxide materials in the STM&quot;
END:VEVENT
END:VCALENDAR
