BEGIN:VCALENDAR
VERSION:2.0
PRODID:-//TYPO3/NONSGML News system (news)//EN
BEGIN:VEVENT
UID:news-103825@physik.uni-graz.at
DTSTAMP:20241223T102345Z
DTSTART:20230606T141500Z
DTEND:20230606T141500Z
SUMMARY:Physics Colloquium

DESCRIPTION:Dr. Mario Hentschel: &quot;Dielectric Mie voids&quot;
END:VEVENT
END:VCALENDAR
