BEGIN:VCALENDAR
VERSION:2.0
PRODID:-//TYPO3/NONSGML News system (news)//EN
BEGIN:VEVENT
UID:news-103101@physik.uni-graz.at
DTSTAMP:20241223T102345Z
DTSTART:20230516T141500Z
DTEND:20230516T141500Z
SUMMARY:Physics Colloquium

DESCRIPTION:Kareem Elsayad: &quot;Feeling Life with Light&quot;
END:VEVENT
END:VCALENDAR
