BEGIN:VCALENDAR
VERSION:2.0
PRODID:-//TYPO3/NONSGML News system (news)//EN
BEGIN:VEVENT
UID:news-101377@physik.uni-graz.at
DTSTAMP:20241223T102345Z
DTSTART:20230328T141500Z
DTEND:20230328T141500Z
SUMMARY:Physics Colloquium

DESCRIPTION:Prof. Dr. Stephanie Hansmann-Menzemer: &quot;Flavour matters – Highlights from the LHCb experiment&quot;
END:VEVENT
END:VCALENDAR
