BEGIN:VCALENDAR
VERSION:2.0
PRODID:-//TYPO3/NONSGML News system (news)//EN
BEGIN:VEVENT
UID:news-101133@physik.uni-graz.at
DTSTAMP:20241223T102345Z
DTSTART:20230321T151500Z
DTEND:20230321T151500Z
SUMMARY:Physics Colloquium

DESCRIPTION:Prof. Dr. Markus A. Schmidt: &quot;Nanophotonics meet Optical Fibers: a flexible concept for single-virus sensing, achromatic light focusing and optical trapping&quot;
END:VEVENT
END:VCALENDAR
