BEGIN:VCALENDAR
VERSION:2.0
PRODID:-//TYPO3/NONSGML News system (news)//EN
BEGIN:VEVENT
UID:news-100607@physik.uni-graz.at
DTSTAMP:20241223T102345Z
DTSTART:20230307T151500Z
DTEND:20230307T151500Z
SUMMARY:Physics Colloquium

DESCRIPTION:Bernat Corominas Murtra: &quot;Topological transitions and cell-cell adhesion properties in biological development&quot;
END:VEVENT
END:VCALENDAR
