BEGIN:VCALENDAR
VERSION:2.0
PRODID:-//TYPO3/NONSGML News system (news)//EN
BEGIN:VEVENT
UID:news-99282@physik.uni-graz.at
DTSTAMP:20241223T102345Z
DTSTART:20230124T151500Z
DTEND:20230124T151500Z
SUMMARY:Physics Colloquium

DESCRIPTION:Ass.-Prof. Dr. Gernot Eichmann: &quot;From quarks and gluons to exotic hadrons&quot;
END:VEVENT
END:VCALENDAR
