BEGIN:VCALENDAR
VERSION:2.0
PRODID:-//TYPO3/NONSGML News system (news)//EN
BEGIN:VEVENT
UID:news-98828@physik.uni-graz.at
DTSTAMP:20241223T102345Z
DTSTART:20230110T151500Z
DTEND:20230110T151500Z
SUMMARY:Physics Colloquium

DESCRIPTION:Prof. Stefan Kück: &quot;Single-photon sources and detectors for quantum based radiometry&quot;
END:VEVENT
END:VCALENDAR
