BEGIN:VCALENDAR
VERSION:2.0
PRODID:-//TYPO3/NONSGML News system (news)//EN
BEGIN:VEVENT
UID:news-97337@physik.uni-graz.at
DTSTAMP:20241223T102345Z
DTSTART:20221206T151500Z
DTEND:20221206T151500Z
SUMMARY:Physics Colloquium

DESCRIPTION:Prof. Gilles R. Bourret: &quot;Controlling optical properties at the nanoscale: an (electro-)chemical approach&quot;
END:VEVENT
END:VCALENDAR
