BEGIN:VCALENDAR
VERSION:2.0
PRODID:-//TYPO3/NONSGML News system (news)//EN
BEGIN:VEVENT
UID:news-97469@physik.uni-graz.at
DTSTAMP:20241223T102345Z
DTSTART:20221122T151500Z
DTEND:20221122T151500Z
SUMMARY:Physics Colloquium

DESCRIPTION:Prof. Stefan Mathias: &quot;Formation of moiré interlayer excitons in space and time&quot;
END:VEVENT
END:VCALENDAR
