BEGIN:VCALENDAR
VERSION:2.0
PRODID:-//TYPO3/NONSGML News system (news)//EN
BEGIN:VEVENT
UID:news-118421@physik.uni-graz.at
DTSTAMP:20241223T102345Z
DTSTART:20241001T141500Z
DTEND:20241001T141500Z
SUMMARY:Physics Colloquium

DESCRIPTION:Prof. Dr. Marko Robnik: &quot;Complex Behaviour in Classical and Quantum Chaos&quot;
END:VEVENT
END:VCALENDAR
