BEGIN:VCALENDAR
VERSION:2.0
PRODID:-//TYPO3/NONSGML News system (news)//EN
BEGIN:VEVENT
UID:news-136055@physik.uni-graz.at
DTSTAMP:20260422T104505Z
DTSTART:20260428T141500Z
DTEND:20260428T141500Z
SUMMARY:Physics Colloquium

DESCRIPTION:Dr. Zdenek Jakub : &quot;Experimental modelling of &quot;single-atom&quot; catalysts: What defines molecular adsorption on single-metal sites?&quot;
END:VEVENT
END:VCALENDAR
