BEGIN:VCALENDAR
VERSION:2.0
PRODID:-//TYPO3/NONSGML News system (news)//EN
BEGIN:VEVENT
UID:news-127081@physik.uni-graz.at
DTSTAMP:20250616T094712Z
DTSTART:20250617T141500Z
DTEND:20250617T141500Z
SUMMARY:Physics Colloquium

DESCRIPTION:Prof. Dr. Michael Schüler: &quot;Tracking and Manipulating Band Properties in Materials via Light–Matter 
Interaction&quot;
END:VEVENT
END:VCALENDAR
