BEGIN:VCALENDAR
VERSION:2.0
PRODID:-//TYPO3/NONSGML News system (news)//EN
BEGIN:VEVENT
UID:news-124715@physik.uni-graz.at
DTSTAMP:20250331T143630Z
DTSTART:20250401T141500Z
DTEND:20250401T141500Z
SUMMARY:Physics Colloquium

DESCRIPTION:Dr. Yuri M. Strzhemechny: &quot;The Role of Surface/Interface Phenomena in The Antibacterial Action of Nano- and Microscale Zinc Oxide, Gallium Oxide, and Gallium Hydroxide.&quot;
END:VEVENT
END:VCALENDAR
