BEGIN:VCALENDAR
VERSION:2.0
PRODID:-//TYPO3/NONSGML News system (news)//EN
BEGIN:VEVENT
UID:news-124062@physik.uni-graz.at
DTSTAMP:20250313T151234Z
DTSTART:20250318T151500Z
DTEND:20250318T151500Z
SUMMARY:Physics Colloquium

DESCRIPTION:Univ.-Prof. Dr. Kurt Busch: &quot;Atom-Surface Interaction: Theory and Computations&quot;
END:VEVENT
END:VCALENDAR
