BEGIN:VCALENDAR
VERSION:2.0
PRODID:-//TYPO3/NONSGML News system (news)//EN
BEGIN:VEVENT
UID:news-123538@physik.uni-graz.at
DTSTAMP:20250227T151445Z
DTSTART:20250304T151500Z
DTEND:20250304T151500Z
SUMMARY:Physics Colloquium

DESCRIPTION:Ass.-Prof. Dr. Giovanni Zamborlini: &quot;Accessing the interface properties with photoemission electron microscopy&quot;
END:VEVENT
END:VCALENDAR
