BEGIN:VCALENDAR
VERSION:2.0
PRODID:-//TYPO3/NONSGML News system (news)//EN
BEGIN:VEVENT
UID:news-119478@physik.uni-graz.at
DTSTAMP:20250107T092545Z
DTSTART:20241015T141500Z
DTEND:20241015T141500Z
SUMMARY:Physics Colloquium

DESCRIPTION:Prof. Dr. Carsten Rockstuhl: &quot;Light Scattering in Nanophotonic Systems&quot;
END:VEVENT
END:VCALENDAR
