BEGIN:VCALENDAR
VERSION:2.0
PRODID:-//TYPO3/NONSGML News system (news)//EN
BEGIN:VEVENT
UID:news-74260@physik.uni-graz.at
DTSTAMP:20210507T112223Z
DTSTART:20210511T141500Z
DTEND:20210511T141500Z
SUMMARY:Physics Colloquium

DESCRIPTION:Ulrich Höfer: &quot;Momentum-Space Movies of Electrons at Interfaces and in 2D Semiconductors&quot;
Host: Peter Puschnig
END:VEVENT
END:VCALENDAR
