BEGIN:VCALENDAR
VERSION:2.0
PRODID:-//TYPO3/NONSGML News system (news)//EN
BEGIN:VEVENT
UID:news-75453@physik.uni-graz.at
DTSTAMP:20210614T101024Z
DTSTART:20210615T141500Z
DTEND:20210615T141500Z
SUMMARY:Physics Colloquium

DESCRIPTION:Xavier Blase: &quot;Embedded many-body perturbation theory for the electronic properties of organic systems&quot;
END:VEVENT
END:VCALENDAR
