BEGIN:VCALENDAR
VERSION:2.0
PRODID:-//TYPO3/NONSGML News system (news)//EN
BEGIN:VEVENT
UID:news-78398@physik.uni-graz.at
DTSTAMP:20211011T101113Z
DTSTART:20211012T141500Z
DTEND:20211012T141500Z
SUMMARY:Physics Colloquium

DESCRIPTION:Ulrik Lund Andersen: &quot;Optical quantum computing&quot; Host: Peter Banzer
END:VEVENT
END:VCALENDAR
