BEGIN:VCALENDAR
VERSION:2.0
PRODID:-//TYPO3/NONSGML News system (news)//EN
BEGIN:VEVENT
UID:news-79607@physik.uni-graz.at
DTSTAMP:20211108T082912Z
DTSTART:20211109T151500Z
DTEND:20211109T151500Z
SUMMARY:Physics Colloquium

DESCRIPTION:Birgit Stiller (Max Planck Institute): &quot;Coherent light-sound interactions in waveguide structures&quot; Host: Peter Banzer
END:VEVENT
END:VCALENDAR
