BEGIN:VCALENDAR
VERSION:2.0
PRODID:-//TYPO3/NONSGML News system (news)//EN
BEGIN:VEVENT
UID:news-80253@physik.uni-graz.at
DTSTAMP:20211122T134017Z
DTSTART:20211123T151500Z
DTEND:20211123T151500Z
SUMMARY:Physics Colloquium

DESCRIPTION:Paul Beck (Univ. Graz): &quot;Stellar Insights - Sounding the structure and evolution of stars like the Sun with Asteroseismology&quot;
Host: Peter Banzer
END:VEVENT
END:VCALENDAR
