BEGIN:VCALENDAR
VERSION:2.0
PRODID:-//TYPO3/NONSGML News system (news)//EN
BEGIN:VEVENT
UID:news-82585@physik.uni-graz.at
DTSTAMP:20220117T080210Z
DTSTART:20220118T151500Z
DTEND:20220118T161500Z
SUMMARY:Physics Colloquium

DESCRIPTION:Heino Falcke (Radboud University Nijmegen): &quot;What’s in a shadow? Past, Present and Future of Black Hole Imaging&quot;
END:VEVENT
END:VCALENDAR
