BEGIN:VCALENDAR
VERSION:2.0
PRODID:-//TYPO3/NONSGML News system (news)//EN
BEGIN:VEVENT
UID:news-89412@physik.uni-graz.at
DTSTAMP:20241223T102345Z
DTSTART:20220628T141500Z
DTEND:20220628T141500Z
SUMMARY:Physics Colloquium

DESCRIPTION:Harald Giessen: &quot;Topological plasmonics: Ultrafast vector movies on the nanoscale&quot;
END:VEVENT
END:VCALENDAR
