BEGIN:VCALENDAR
VERSION:2.0
PRODID:-//TYPO3/NONSGML News system (news)//EN
BEGIN:VEVENT
UID:news-88908@physik.uni-graz.at
DTSTAMP:20241223T102345Z
DTSTART:20220614T141500Z
DTEND:20220614T141500Z
SUMMARY:Physics Colloquium

DESCRIPTION:Jan Laufer: &quot;Molecular photoacoustic imaging of contrast agents using pump-probe excitation&quot;
END:VEVENT
END:VCALENDAR
