BEGIN:VCALENDAR
VERSION:2.0
PRODID:-//TYPO3/NONSGML News system (news)//EN
BEGIN:VEVENT
UID:news-87944@physik.uni-graz.at
DTSTAMP:20241223T102345Z
DTSTART:20220524T141500Z
DTEND:20220524T141500Z
SUMMARY:Physics Colloquium

DESCRIPTION:Alison Yao: &quot;Structuring light for controlled propagation and manipulation&quot;
END:VEVENT
END:VCALENDAR
