BEGIN:VCALENDAR
VERSION:2.0
PRODID:-//TYPO3/NONSGML News system (news)//EN
BEGIN:VEVENT
UID:news-87541@physik.uni-graz.at
DTSTAMP:20241223T102345Z
DTSTART:20220517T141500Z
DTEND:20220517T141500Z
SUMMARY:Physics Colloquium

DESCRIPTION:Rupert Huber: &quot;Quantum choreography to the beat of light&quot;
END:VEVENT
END:VCALENDAR
