BEGIN:VCALENDAR
VERSION:2.0
PRODID:-//TYPO3/NONSGML News system (news)//EN
BEGIN:VEVENT
UID:news-87128@physik.uni-graz.at
DTSTAMP:20241223T102345Z
DTSTART:20220510T141500Z
DTEND:20220510T141500Z
SUMMARY:Physics Colloquium

DESCRIPTION:Pamina M. Winkler: &quot;A complementary approach to quantify weak interactions in protein solutions with high throughput&quot;
END:VEVENT
END:VCALENDAR
