BEGIN:VCALENDAR
VERSION:2.0
PRODID:-//TYPO3/NONSGML News system (news)//EN
BEGIN:VEVENT
UID:news-84626@physik.uni-graz.at
DTSTAMP:20220314T105601Z
DTSTART:20220315T151500Z
DTEND:20220315T151500Z
SUMMARY:Physics Colloquium

DESCRIPTION:Thomas Weiss: &quot;Resonant states and their role in nanophotonics&quot;
END:VEVENT
END:VCALENDAR
