BEGIN:VCALENDAR
VERSION:2.0
PRODID:-//TYPO3/NONSGML News system (news)//EN
BEGIN:VEVENT
UID:news-91871@physik.uni-graz.at
DTSTAMP:20241223T102345Z
DTSTART:20221011T141500Z
DTEND:20221011T141500Z
SUMMARY:Physics Colloquium

DESCRIPTION:Prof. Erwin Frey: &quot;Self-organisation of proteins in cells&quot;
END:VEVENT
END:VCALENDAR
