BEGIN:VCALENDAR
VERSION:2.0
PRODID:-//TYPO3/NONSGML News system (news)//EN
BEGIN:VEVENT
UID:news-97017@physik.uni-graz.at
DTSTAMP:20241223T102345Z
DTSTART:20221108T151500Z
DTEND:20221108T151500Z
SUMMARY:Physics Colloquium

DESCRIPTION:Prof. Silvan Schmid: &quot;Towards single-molecule analysis with nanomechanical resonators&quot;
END:VEVENT
END:VCALENDAR
