BEGIN:VCALENDAR
VERSION:2.0
PRODID:-//TYPO3/NONSGML News system (news)//EN
BEGIN:VEVENT
UID:news-70851@physik.uni-graz.at
DTSTAMP:20210507T112155Z
DTSTART:20210119T151500Z
DTEND:20210119T151500Z
SUMMARY:Physics Colloquium

DESCRIPTION:Martin Lavery: &quot;Sensing with Structured Beams&quot;
Host: Peter Banzer
END:VEVENT
END:VCALENDAR
