BEGIN:VCALENDAR
VERSION:2.0
PRODID:-//TYPO3/NONSGML News system (news)//EN
BEGIN:VEVENT
UID:news-123424@physik.uni-graz.at
DTSTAMP:20250313T151355Z
DTSTART:20250315T183000Z
DTEND:20250315T183000Z
SUMMARY:Podiumsdiskussion mit KI-ExpertInnen der Universität Graz

DESCRIPTION:Die Podiumsdiskussion mit KI-Expert:innen aus den Bereichen Physik, Philosophie, Kunst und Personalmanagement ist die Abschlussveranstaltung des von Isabell Piantschitsch geleiteten KI-Projekts DELPHI. 
END:VEVENT
END:VCALENDAR
