BEGIN:VCALENDAR
VERSION:2.0
PRODID:-//TYPO3/NONSGML News system (news)//EN
BEGIN:VEVENT
UID:news-118734@physik.uni-graz.at
DTSTAMP:20241223T102345Z
DTSTART:20241001T170000Z
DTEND:20241001T190000Z
SUMMARY:Quantenmechanik und Philosophie (Vortragsreihe)
END:VEVENT
END:VCALENDAR
