BEGIN:VCALENDAR
VERSION:2.0
PRODID:-//TYPO3/NONSGML News system (news)//EN
BEGIN:VEVENT
UID:news-86887@physik.uni-graz.at
DTSTAMP:20241223T102345Z
DTSTART:20220505T131004Z
DTEND:20220505T131004Z
SUMMARY:Schule und Weltraum 2022

DESCRIPTION:Wissensvermittlung für und mit kommender Forschergenerationen
END:VEVENT
END:VCALENDAR
