BEGIN:VCALENDAR
VERSION:2.0
PRODID:-//TYPO3/NONSGML News system (news)//EN
BEGIN:VEVENT
UID:news-62056@physik.uni-graz.at
DTSTAMP:20200129T144757Z
DTSTART:20200130T170000Z
DTEND:20200130T170000Z
SUMMARY:Science &amp; Cinema

DESCRIPTION:Klima, Kollaps, Katastrophen - Der Klimawandel im Film
END:VEVENT
END:VCALENDAR
