BEGIN:VCALENDAR
VERSION:2.0
PRODID:-//TYPO3/NONSGML News system (news)//EN
BEGIN:VEVENT
UID:news-86723@physik.uni-graz.at
DTSTAMP:20241223T102345Z
DTSTART:20220506T173000Z
DTEND:20220506T173000Z
SUMMARY:Science &amp; Cinema: Der Klimawandel im Film

DESCRIPTION:Klimaforscher Ulrich Foelsche geht der Frage nach, wie realistisch Extremwetterereignisse in Filmen dargestellt werden.
END:VEVENT
END:VCALENDAR
