BEGIN:VCALENDAR
VERSION:2.0
PRODID:-//TYPO3/NONSGML News system (news)//EN
BEGIN:VEVENT
UID:news-79864@physik.uni-graz.at
DTSTAMP:20211111T140738Z
DTSTART:20211115T160000Z
DTEND:20211115T170000Z
SUMMARY:PhD-Seminar &quot;Experimental- und Festkörperphysik&quot;

DESCRIPTION:Brian Kantor: &quot;Interactions of Vector Beams in Structured Epsilon-Near-Zero Media&quot;
END:VEVENT
END:VCALENDAR
